BEGIN:VCALENDAR
VERSION:2.0
PRODID:-//Melissa Hudson is the Best Local Realtor in Fairwood &amp; Renton - ECPv6.15.20//NONSGML v1.0//EN
CALSCALE:GREGORIAN
METHOD:PUBLISH
X-WR-CALNAME:Melissa Hudson is the Best Local Realtor in Fairwood &amp; Renton
X-ORIGINAL-URL:https://melissahudsonrealtor.com
X-WR-CALDESC:Events for Melissa Hudson is the Best Local Realtor in Fairwood &amp; Renton
REFRESH-INTERVAL;VALUE=DURATION:PT1H
X-Robots-Tag:noindex
X-PUBLISHED-TTL:PT1H
BEGIN:VTIMEZONE
TZID:America/Los_Angeles
BEGIN:DAYLIGHT
TZOFFSETFROM:-0800
TZOFFSETTO:-0700
TZNAME:PDT
DTSTART:20250309T100000
END:DAYLIGHT
BEGIN:STANDARD
TZOFFSETFROM:-0700
TZOFFSETTO:-0800
TZNAME:PST
DTSTART:20251102T090000
END:STANDARD
BEGIN:DAYLIGHT
TZOFFSETFROM:-0800
TZOFFSETTO:-0700
TZNAME:PDT
DTSTART:20260308T100000
END:DAYLIGHT
BEGIN:STANDARD
TZOFFSETFROM:-0700
TZOFFSETTO:-0800
TZNAME:PST
DTSTART:20261101T090000
END:STANDARD
BEGIN:DAYLIGHT
TZOFFSETFROM:-0800
TZOFFSETTO:-0700
TZNAME:PDT
DTSTART:20270314T100000
END:DAYLIGHT
BEGIN:STANDARD
TZOFFSETFROM:-0700
TZOFFSETTO:-0800
TZNAME:PST
DTSTART:20271107T090000
END:STANDARD
END:VTIMEZONE
BEGIN:VEVENT
DTSTART;TZID=America/Los_Angeles:20260430T183000
DTEND;TZID=America/Los_Angeles:20260430T203000
DTSTAMP:20260423T053201
CREATED:20260326T223157Z
LAST-MODIFIED:20260423T060152Z
UID:261253-1777573800-1777581000@melissahudsonrealtor.com
SUMMARY:Mom's Night Out - Shop & Sip Event!
DESCRIPTION:RSVP is required for the Wine Tasting\, CLICK HERE:\nhttps://bit.ly/MomsNightOutKeenEye\nGrab mom or a friend and enjoy a fun night out while you shop! Guests will enjoy a free wine tasting and appetizers provided by local realtor Melissa Hudson\, featuring delicious selections from Uva Furem Winery and La Crema. KeenEye & Co. will also be providing mocktails\, coffee\, and tea so everyone has something to sip while they browse. \nIn addition to shopping\, there will be a flower bar where you can create your own arrangement\, special discounts when you bring a friend\, an opportunity to set up a shopping wish list\, and a little surprise waiting for you at the door when you arrive. It’s the perfect excuse for a relaxing evening out with mom or friends while supporting local businesses. \nRSVP below to save your spot! https://bit.ly/MomsNightOutKeenEye
URL:https://melissahudsonrealtor.com/event/moms-night-out-shop-sip-event/
LOCATION:KeenEye & Co. Home & Gifts\, 17620 140th Ave SE C9\, Renton\, WA\, 98058\, United States
CATEGORIES:Community Event,Shop & Sip,Shop Local
ATTACH;FMTTYPE=image/png:https://melissahudsonrealtor.com/wp-content/uploads/2026/03/Mothers-Day-Shop-and-Sip-Melissa-Focused.png
ORGANIZER;CN="Melissa Hudson Realtor":MAILTO:melissa@rosierourke.com
END:VEVENT
END:VCALENDAR